Workbook

Sheet Lookup Table
A1: City | B1: Product | C1: 23 Date | D1: 24 Date | E1: 25 Date | F1: 26 Date | G1: Venue | H1: Game Dates | I1: Matchup | J1: Key
A2: Tallahassee, FL | B2: Bananas Games: Feb–Jun (Incl. ALL FSU) | C2: Nov 4 | D2: Nov 5 | E2: Nov 6 | F2: Nov 7 | G2: Dick Howser Stadium & Doak Campbell Stadium | H2: Feb 26 - 28 | I2: All 6 teams are playing in Tallahassee | J2: Tallahassee, FL|Bananas Games: Feb–Jun (Incl. ALL FSU)
A3: New Orleans, LA | B3: Bananas Games: Feb–Jun (Incl. ALL FSU) | C3: Nov 4 | D3: Nov 5 | E3: Nov 6 | F3: Nov 7 | G3: Caesars Superdome | H3: Mar 14 & 15 | I3: Party Animals vs. Bananas | J3: New Orleans, LA|Bananas Games: Feb–Jun (Incl. ALL FSU)
A4: San Diego, CA | B4: Bananas Games: Feb–Jun (Incl. ALL FSU) | C4: Nov 4 | D4: Nov 5 | E4: Nov 6 | F4: Nov 7 | G4: Petco Park | H4: Mar 21 & 22 | I4: Coconuts vs. Bananas | J4: San Diego, CA|Bananas Games: Feb–Jun (Incl. ALL FSU)
A5: Anaheim, CA | B5: Bananas Games: Feb–Jun (Incl. ALL FSU) | C5: Nov 4 | D5: Nov 5 | E5: Nov 6 | F5: Nov 7 | G5: Angel Stadium | H5: Mar 27 & 28 | I5: Clowns vs. Bananas | J5: Anaheim, CA|Bananas Games: Feb–Jun (Incl. ALL FSU)
A6: Chapel Hill, NC | B6: Bananas Games: Feb–Jun (Incl. ALL FSU) | C6: Nov 4 | D6: Nov 5 | E6: Nov 6 | F6: Nov 7 | G6: Kenan Stadium | H6: Apr 11 & 12 | I6: Tailgaters vs. Bananas | J6: Chapel Hill, NC|Bananas Games: Feb–Jun (Incl. ALL FSU)
A7: New York City, NY | B7: Bananas Games: Feb–Jun (Incl. ALL FSU) | C7: Nov 4 | D7: Nov 5 | E7: Nov 6 | F7: Nov 7 | G7: Yankee Stadium | H7: Apr 25 & 26 | I7: Party Animals vs. Bananas | J7: New York City, NY|Bananas Games: Feb–Jun (Incl. ALL FSU)
A8: College Station, TX | B8: Bananas Games: Feb–Jun (Incl. ALL FSU) | C8: Nov 4 | D8: Nov 5 | E8: Nov 6 | F8: Nov 7 | G8: Kyle Field | H8: May 2 | I8: Bananas vs. Tailgaters | J8: College Station, TX|Bananas Games: Feb–Jun (Incl. ALL FSU)
A9: Atlanta, GA | B9: Bananas Games: Feb–Jun (Incl. ALL FSU) | C9: Nov 4 | D9: Nov 5 | E9: Nov 6 | F9: Nov 7 | G9: Truist Park | H9: May 8 - 10 | I9: Bananas vs. Party Animals | J9: Atlanta, GA|Bananas Games: Feb–Jun (Incl. ALL FSU)
A10: Knoxville, TN | B10: Bananas Games: Feb–Jun (Incl. ALL FSU) | C10: Nov 4 | D10: Nov 5 | E10: Nov 6 | F10: Nov 7 | G10: Covenant Health Park & Neyland Stadium | H10: May 21; May 23 | I10: Tailgaters vs. Bananas; Tailgaters vs. Bananas | J10: Knoxville, TN|Bananas Games: Feb–Jun (Incl. ALL FSU)
A11: Kansas City, MO | B11: Bananas Games: Feb–Jun (Incl. ALL FSU) | C11: Nov 4 | D11: Nov 5 | E11: Nov 6 | F11: Nov 7 | G11: Kauffman Stadium | H11: May 30 & 31 | I11: Bananas vs. Clowns | J11: Kansas City, MO|Bananas Games: Feb–Jun (Incl. ALL FSU)
A12: Lincoln, NE | B12: Bananas Games: Feb–Jun (Incl. ALL FSU) | C12: Nov 4 | D12: Nov 5 | E12: Nov 6 | F12: Nov 7 | G12: Haymarket Park & Memorial Stadium | H12: Jun 11; Jun 13 | I12: Bananas vs. Firefighters; Bananas vs. Firefighters | J12: Lincoln, NE|Bananas Games: Feb–Jun (Incl. ALL FSU)
... A45: Savannah, GA | B45: Grayson Stadium Home Games | C45: Nov 18 | D45: Nov 19 | E45: Not available to your Class | F45: Not available to your Class | G45: Grayson Stadium | H45: There are muliple dates for Savannah. | I45: There are muliple games in Savannah | J45: Savannah, GA|Grayson Stadium Home Games

Sheet Choose Your Cities
B2: 2026 K Club Ticket Planner
B4: Please start with the green box! | E4: <-- Your K Club Class | G4: Your Selected Cities & Dates
B6: Select | C6: City | D6: Product | E6: Your Purchase Date | F6: Selected # | G6: City | H6: Product | I6: Purchase Date | J6: Key
C7: Tallahassee, FL | D7: Bananas Games: Feb–Jun (Incl. ALL FSU) | E7: =IF($B7<>"Yes","",INDEX('Lookup Table'!$A:$F,MATCH($C7,'Lookup Table'!$A:$A,0),MATCH($C$4&" Date",'Lookup Table'!$1:$1,0))) | F7: =IF($B7="Yes", COUNTIF($B$7:$B7, "Yes"), "") | J7: =$C7&"|"&$D7 -> Tallahassee, FL|Bananas Games: Feb–Jun (Incl. ALL FSU)
C8: New Orleans, LA | D8: Bananas Games: Feb–Jun (Incl. ALL FSU) | E8: =IF($B8<>"Yes","",INDEX('Lookup Table'!$A:$F,MATCH($C8,'Lookup Table'!$A:$A,0),MATCH($C$4&" Date",'Lookup Table'!$1:$1,0))) | F8: =IF($B8="Yes", COUNTIF($B$7:$B8, "Yes"), "") | J8: =$C8&"|"&$D8 -> New Orleans, LA|Bananas Games: Feb–Jun (Incl. ALL FSU)
C9: San Diego, CA | D9: Bananas Games: Feb–Jun (Incl. ALL FSU) | E9: =IF($B9<>"Yes","",INDEX('Lookup Table'!$A:$F,MATCH($C9,'Lookup Table'!$A:$A,0),MATCH($C$4&" Date",'Lookup Table'!$1:$1,0))) | F9: =IF($B9="Yes", COUNTIF($B$7:$B9, "Yes"), "") | J9: =$C9&"|"&$D9 -> San Diego, CA|Bananas Games: Feb–Jun (Incl. ALL FSU)
C10: Anaheim, CA | D10: Bananas Games: Feb–Jun (Incl. ALL FSU) | E10: =IF($B10<>"Yes","",INDEX('Lookup Table'!$A:$F,MATCH($C10,'Lookup Table'!$A:$A,0),MATCH($C$4&" Date",'Lookup Table'!$1:$1,0))) | F10: =IF($B10="Yes", COUNTIF($B$7:$B10, "Yes"), "") | J10: =$C10&"|"&$D10 -> Anaheim, CA|Bananas Games: Feb–Jun (Incl. ALL FSU)
C11: Chapel Hill, NC | D11: Bananas Games: Feb–Jun (Incl. ALL FSU) | E11: =IF($B11<>"Yes","",INDEX('Lookup Table'!$A:$F,MATCH($C11,'Lookup Table'!$A:$A,0),MATCH($C$4&" Date",'Lookup Table'!$1:$1,0))) | F11: =IF($B11="Yes", COUNTIF($B$7:$B11, "Yes"), "") | J11: =$C11&"|"&$D11 -> Chapel Hill, NC|Bananas Games: Feb–Jun (Incl. ALL FSU)
C12: New York City, NY | D12: Bananas Games: Feb–Jun (Incl. ALL FSU) | E12: =IF($B12<>"Yes","",INDEX('Lookup Table'!$A:$F,MATCH($C12,'Lookup Table'!$A:$A,0),MATCH($C$4&" Date",'Lookup Table'!$1:$1,0))) | F12: =IF($B12="Yes", COUNTIF($B$7:$B12, "Yes"), "") | J12: =$C12&"|"&$D12 -> New York City, NY|Bananas Games: Feb–Jun (Incl. ALL FSU)
C13: College Station, TX | D13: Bananas Games: Feb–Jun (Incl. ALL FSU) | E13: =IF($B13<>"Yes","",INDEX('Lookup Table'!$A:$F,MATCH($C13,'Lookup Table'!$A:$A,0),MATCH($C$4&" Date",'Lookup Table'!$1:$1,0))) | F13: =IF($B13="Yes", COUNTIF($B$7:$B13, "Yes"), "") | J13: =$C13&"|"&$D13 -> College Station, TX|Bananas Games: Feb–Jun (Incl. ALL FSU)
C14: Atlanta, GA | D14: Bananas Games: Feb–Jun (Incl. ALL FSU) | E14: =IF($B14<>"Yes","",INDEX('Lookup Table'!$A:$F,MATCH($C14,'Lookup Table'!$A:$A,0),MATCH($C$4&" Date",'Lookup Table'!$1:$1,0))) | F14: =IF($B14="Yes", COUNTIF($B$7:$B14, "Yes"), "") | J14: =$C14&"|"&$D14 -> Atlanta, GA|Bananas Games: Feb–Jun (Incl. ALL FSU)
C15: Knoxville, TN | D15: Bananas Games: Feb–Jun (Incl. ALL FSU) | E15: =IF($B15<>"Yes","",INDEX('Lookup Table'!$A:$F,MATCH($C15,'Lookup Table'!$A:$A,0),MATCH($C$4&" Date",'Lookup Table'!$1:$1,0))) | F15: =IF($B15="Yes", COUNTIF($B$7:$B15, "Yes"), "") | J15: =$C15&"|"&$D15 -> Knoxville, TN|Bananas Games: Feb–Jun (Incl. ALL FSU)
C16: Kansas City, MO | D16: Bananas Games: Feb–Jun (Incl. ALL FSU) | E16: =IF($B16<>"Yes","",INDEX('Lookup Table'!$A:$F,MATCH($C16,'Lookup Table'!$A:$A,0),MATCH($C$4&" Date",'Lookup Table'!$1:$1,0))) | F16: =IF($B16="Yes", COUNTIF($B$7:$B16, "Yes"), "") | J16: =$C16&"|"&$D16 -> Kansas City, MO|Bananas Games: Feb–Jun (Incl. ALL FSU)
C17: Lincoln, NE | D17: Bananas Games: Feb–Jun (Incl. ALL FSU) | E17: =IF($B17<>"Yes","",INDEX('Lookup Table'!$A:$F,MATCH($C17,'Lookup Table'!$A:$A,0),MATCH($C$4&" Date",'Lookup Table'!$1:$1,0))) | F17: =IF($B17="Yes", COUNTIF($B$7:$B17, "Yes"), "") | J17: =$C17&"|"&$D17 -> Lincoln, NE|Bananas Games: Feb–Jun (Incl. ALL FSU)
C18: Cincinnati, OH | D18: Bananas Games: Feb–Jun (Incl. ALL FSU) | E18: =IF($B18<>"Yes","",INDEX('Lookup Table'!$A:$F,MATCH($C18,'Lookup Table'!$A:$A,0),MATCH($C$4&" Date",'Lookup Table'!$1:$1,0))) | F18: =IF($B18="Yes", COUNTIF($B$7:$B18, "Yes"), "") | J18: =$C18&"|"&$D18 -> Cincinnati, OH|Bananas Games: Feb–Jun (Incl. ALL FSU)
... C50: Savannah, GA | D50: Grayson Stadium Home Games | E50: =IF($B50<>"Yes","",INDEX('Lookup Table'!$A:$F,MATCH($C50,'Lookup Table'!$A:$A,0),MATCH($C$4&" Date",'Lookup Table'!$1:$1,0))) | F50: =IF($B50="Yes", COUNTIF($B$7:$B50, "Yes"), "") | J50: =$C50&"|"&$D50 -> Savannah, GA|Grayson Stadium Home Games

Sheet Your Planner
A1: City | B1: Product | C1: Your Purchase Date | D1: Venue(s) | E1: Game Date(s) | F1: Matchup: (Away vs. Home)
A2: =IFERROR(INDEX('Choose Your Cities'!$C$7:$C$50, MATCH(ROW()-1, 'Choose Your Cities'!$F$7:$F$50, 0)), "") | B2: =IFERROR(INDEX('Choose Your Cities'!$D$7:$D$50, MATCH(ROW()-1, 'Choose Your Cities'!$F$7:$F$50, 0)), "") | C2: =IFERROR(INDEX('Choose Your Cities'!$E$7:$E$50, MATCH(ROW()-1, 'Choose Your Cities'!$F$7:$F$50, 0)), "") | D2: =IF(A2="","",IFERROR(INDEX('Lookup Table'!$G$2:$G$45,MATCH(A2&"|"&B2,'Lookup Table'!$J$2:$J$45,0)),"")) | E2: =IF(A2="","",IFERROR(INDEX('Lookup Table'!$H$2:$H$45,MATCH(A2&"|"&B2,'Lookup Table'!$J$2:$J$45,0)),"")) | F2: =IF(A2="","",IFERROR(INDEX('Lookup Table'!$I$2:$I$45,MATCH(A2&"|"&B2,'Lookup Table'!$J$2:$J$45,0)),""))
A3: =IFERROR(INDEX('Choose Your Cities'!$C$7:$C$50, MATCH(ROW()-1, 'Choose Your Cities'!$F$7:$F$50, 0)), "") | B3: =IFERROR(INDEX('Choose Your Cities'!$D$7:$D$50, MATCH(ROW()-1, 'Choose Your Cities'!$F$7:$F$50, 0)), "") | C3: =IFERROR(INDEX('Choose Your Cities'!$E$7:$E$50, MATCH(ROW()-1, 'Choose Your Cities'!$F$7:$F$50, 0)), "") | D3: =IF(A3="","",IFERROR(INDEX('Lookup Table'!$G$2:$G$45,MATCH(A3&"|"&B3,'Lookup Table'!$J$2:$J$45,0)),"")) | E3: =IF(A3="","",IFERROR(INDEX('Lookup Table'!$H$2:$H$45,MATCH(A3&"|"&B3,'Lookup Table'!$J$2:$J$45,0)),"")) | F3: =IF(A3="","",IFERROR(INDEX('Lookup Table'!$I$2:$I$45,MATCH(A3&"|"&B3,'Lookup Table'!$J$2:$J$45,0)),""))
A4: =IFERROR(INDEX('Choose Your Cities'!$C$7:$C$50, MATCH(ROW()-1, 'Choose Your Cities'!$F$7:$F$50, 0)), "") | B4: =IFERROR(INDEX('Choose Your Cities'!$D$7:$D$50, MATCH(ROW()-1, 'Choose Your Cities'!$F$7:$F$50, 0)), "") | C4: =IFERROR(INDEX('Choose Your Cities'!$E$7:$E$50, MATCH(ROW()-1, 'Choose Your Cities'!$F$7:$F$50, 0)), "") | D4: =IF(A4="","",IFERROR(INDEX('Lookup Table'!$G$2:$G$45,MATCH(A4&"|"&B4,'Lookup Table'!$J$2:$J$45,0)),"")) | E4: =IF(A4="","",IFERROR(INDEX('Lookup Table'!$H$2:$H$45,MATCH(A4&"|"&B4,'Lookup Table'!$J$2:$J$45,0)),"")) | F4: =IF(A4="","",IFERROR(INDEX('Lookup Table'!$I$2:$I$45,MATCH(A4&"|"&B4,'Lookup Table'!$J$2:$J$45,0)),""))
A5: =IFERROR(INDEX('Choose Your Cities'!$C$7:$C$50, MATCH(ROW()-1, 'Choose Your Cities'!$F$7:$F$50, 0)), "") | B5: =IFERROR(INDEX('Choose Your Cities'!$D$7:$D$50, MATCH(ROW()-1, 'Choose Your Cities'!$F$7:$F$50, 0)), "") | C5: =IFERROR(INDEX('Choose Your Cities'!$E$7:$E$50, MATCH(ROW()-1, 'Choose Your Cities'!$F$7:$F$50, 0)), "") | D5: =IF(A5="","",IFERROR(INDEX('Lookup Table'!$G$2:$G$45,MATCH(A5&"|"&B5,'Lookup Table'!$J$2:$J$45,0)),"")) | E5: =IF(A5="","",IFERROR(INDEX('Lookup Table'!$H$2:$H$45,MATCH(A5&"|"&B5,'Lookup Table'!$J$2:$J$45,0)),"")) | F5: =IF(A5="","",IFERROR(INDEX('Lookup Table'!$I$2:$I$45,MATCH(A5&"|"&B5,'Lookup Table'!$J$2:$J$45,0)),""))
A6: =IFERROR(INDEX('Choose Your Cities'!$C$7:$C$50, MATCH(ROW()-1, 'Choose Your Cities'!$F$7:$F$50, 0)), "") | B6: =IFERROR(INDEX('Choose Your Cities'!$D$7:$D$50, MATCH(ROW()-1, 'Choose Your Cities'!$F$7:$F$50, 0)), "") | C6: =IFERROR(INDEX('Choose Your Cities'!$E$7:$E$50, MATCH(ROW()-1, 'Choose Your Cities'!$F$7:$F$50, 0)), "") | D6: =IF(A6="","",IFERROR(INDEX('Lookup Table'!$G$2:$G$45,MATCH(A6&"|"&B6,'Lookup Table'!$J$2:$J$45,0)),"")) | E6: =IF(A6="","",IFERROR(INDEX('Lookup Table'!$H$2:$H$45,MATCH(A6&"|"&B6,'Lookup Table'!$J$2:$J$45,0)),"")) | F6: =IF(A6="","",IFERROR(INDEX('Lookup Table'!$I$2:$I$45,MATCH(A6&"|"&B6,'Lookup Table'!$J$2:$J$45,0)),""))
A7: =IFERROR(INDEX('Choose Your Cities'!$C$7:$C$50, MATCH(ROW()-1, 'Choose Your Cities'!$F$7:$F$50, 0)), "") | B7: =IFERROR(INDEX('Choose Your Cities'!$D$7:$D$50, MATCH(ROW()-1, 'Choose Your Cities'!$F$7:$F$50, 0)), "") | C7: =IFERROR(INDEX('Choose Your Cities'!$E$7:$E$50, MATCH(ROW()-1, 'Choose Your Cities'!$F$7:$F$50, 0)), "") | D7: =IF(A7="","",IFERROR(INDEX('Lookup Table'!$G$2:$G$45,MATCH(A7&"|"&B7,'Lookup Table'!$J$2:$J$45,0)),"")) | E7: =IF(A7="","",IFERROR(INDEX('Lookup Table'!$H$2:$H$45,MATCH(A7&"|"&B7,'Lookup Table'!$J$2:$J$45,0)),"")) | F7: =IF(A7="","",IFERROR(INDEX('Lookup Table'!$I$2:$I$45,MATCH(A7&"|"&B7,'Lookup Table'!$J$2:$J$45,0)),""))
A8: =IFERROR(INDEX('Choose Your Cities'!$C$7:$C$50, MATCH(ROW()-1, 'Choose Your Cities'!$F$7:$F$50, 0)), "") | B8: =IFERROR(INDEX('Choose Your Cities'!$D$7:$D$50, MATCH(ROW()-1, 'Choose Your Cities'!$F$7:$F$50, 0)), "") | C8: =IFERROR(INDEX('Choose Your Cities'!$E$7:$E$50, MATCH(ROW()-1, 'Choose Your Cities'!$F$7:$F$50, 0)), "") | D8: =IF(A8="","",IFERROR(INDEX('Lookup Table'!$G$2:$G$45,MATCH(A8&"|"&B8,'Lookup Table'!$J$2:$J$45,0)),"")) | E8: =IF(A8="","",IFERROR(INDEX('Lookup Table'!$H$2:$H$45,MATCH(A8&"|"&B8,'Lookup Table'!$J$2:$J$45,0)),"")) | F8: =IF(A8="","",IFERROR(INDEX('Lookup Table'!$I$2:$I$45,MATCH(A8&"|"&B8,'Lookup Table'!$J$2:$J$45,0)),""))
A9: =IFERROR(INDEX('Choose Your Cities'!$C$7:$C$50, MATCH(ROW()-1, 'Choose Your Cities'!$F$7:$F$50, 0)), "") | B9: =IFERROR(INDEX('Choose Your Cities'!$D$7:$D$50, MATCH(ROW()-1, 'Choose Your Cities'!$F$7:$F$50, 0)), "") | C9: =IFERROR(INDEX('Choose Your Cities'!$E$7:$E$50, MATCH(ROW()-1, 'Choose Your Cities'!$F$7:$F$50, 0)), "") | D9: =IF(A9="","",IFERROR(INDEX('Lookup Table'!$G$2:$G$45,MATCH(A9&"|"&B9,'Lookup Table'!$J$2:$J$45,0)),"")) | E9: =IF(A9="","",IFERROR(INDEX('Lookup Table'!$H$2:$H$45,MATCH(A9&"|"&B9,'Lookup Table'!$J$2:$J$45,0)),"")) | F9: =IF(A9="","",IFERROR(INDEX('Lookup Table'!$I$2:$I$45,MATCH(A9&"|"&B9,'Lookup Table'!$J$2:$J$45,0)),""))
A10: =IFERROR(INDEX('Choose Your Cities'!$C$7:$C$50, MATCH(ROW()-1, 'Choose Your Cities'!$F$7:$F$50, 0)), "") | B10: =IFERROR(INDEX('Choose Your Cities'!$D$7:$D$50, MATCH(ROW()-1, 'Choose Your Cities'!$F$7:$F$50, 0)), "") | C10: =IFERROR(INDEX('Choose Your Cities'!$E$7:$E$50, MATCH(ROW()-1, 'Choose Your Cities'!$F$7:$F$50, 0)), "") | D10: =IF(A10="","",IFERROR(INDEX('Lookup Table'!$G$2:$G$45,MATCH(A10&"|"&B10,'Lookup Table'!$J$2:$J$45,0)),"")) | E10: =IF(A10="","",IFERROR(INDEX('Lookup Table'!$H$2:$H$45,MATCH(A10&"|"&B10,'Lookup Table'!$J$2:$J$45,0)),"")) | F10: =IF(A10="","",IFERROR(INDEX('Lookup Table'!$I$2:$I$45,MATCH(A10&"|"&B10,'Lookup Table'!$J$2:$J$45,0)),""))
A11: =IFERROR(INDEX('Choose Your Cities'!$C$7:$C$50, MATCH(ROW()-1, 'Choose Your Cities'!$F$7:$F$50, 0)), "") | B11: =IFERROR(INDEX('Choose Your Cities'!$D$7:$D$50, MATCH(ROW()-1, 'Choose Your Cities'!$F$7:$F$50, 0)), "") | C11: =IFERROR(INDEX('Choose Your Cities'!$E$7:$E$50, MATCH(ROW()-1, 'Choose Your Cities'!$F$7:$F$50, 0)), "") | D11: =IF(A11="","",IFERROR(INDEX('Lookup Table'!$G$2:$G$45,MATCH(A11&"|"&B11,'Lookup Table'!$J$2:$J$45,0)),"")) | E11: =IF(A11="","",IFERROR(INDEX('Lookup Table'!$H$2:$H$45,MATCH(A11&"|"&B11,'Lookup Table'!$J$2:$J$45,0)),"")) | F11: =IF(A11="","",IFERROR(INDEX('Lookup Table'!$I$2:$I$45,MATCH(A11&"|"&B11,'Lookup Table'!$J$2:$J$45,0)),""))
A12: =IFERROR(INDEX('Choose Your Cities'!$C$7:$C$50, MATCH(ROW()-1, 'Choose Your Cities'!$F$7:$F$50, 0)), "") | B12: =IFERROR(INDEX('Choose Your Cities'!$D$7:$D$50, MATCH(ROW()-1, 'Choose Your Cities'!$F$7:$F$50, 0)), "") | C12: =IFERROR(INDEX('Choose Your Cities'!$E$7:$E$50, MATCH(ROW()-1, 'Choose Your Cities'!$F$7:$F$50, 0)), "") | D12: =IF(A12="","",IFERROR(INDEX('Lookup Table'!$G$2:$G$45,MATCH(A12&"|"&B12,'Lookup Table'!$J$2:$J$45,0)),"")) | E12: =IF(A12="","",IFERROR(INDEX('Lookup Table'!$H$2:$H$45,MATCH(A12&"|"&B12,'Lookup Table'!$J$2:$J$45,0)),"")) | F12: =IF(A12="","",IFERROR(INDEX('Lookup Table'!$I$2:$I$45,MATCH(A12&"|"&B12,'Lookup Table'!$J$2:$J$45,0)),""))
A13: =IFERROR(INDEX('Choose Your Cities'!$C$7:$C$50, MATCH(ROW()-1, 'Choose Your Cities'!$F$7:$F$50, 0)), "") | B13: =IFERROR(INDEX('Choose Your Cities'!$D$7:$D$50, MATCH(ROW()-1, 'Choose Your Cities'!$F$7:$F$50, 0)), "") | C13: =IFERROR(INDEX('Choose Your Cities'!$E$7:$E$50, MATCH(ROW()-1, 'Choose Your Cities'!$F$7:$F$50, 0)), "") | D13: =IF(A13="","",IFERROR(INDEX('Lookup Table'!$G$2:$G$45,MATCH(A13&"|"&B13,'Lookup Table'!$J$2:$J$45,0)),"")) | E13: =IF(A13="","",IFERROR(INDEX('Lookup Table'!$H$2:$H$45,MATCH(A13&"|"&B13,'Lookup Table'!$J$2:$J$45,0)),"")) | F13: =IF(A13="","",IFERROR(INDEX('Lookup Table'!$I$2:$I$45,MATCH(A13&"|"&B13,'Lookup Table'!$J$2:$J$45,0)),""))
... A200: =IFERROR(INDEX('Choose Your Cities'!$C$7:$C$50, MATCH(ROW()-1, 'Choose Your Cities'!$F$7:$F$50, 0)), "") | B200: =IFERROR(INDEX('Choose Your Cities'!$D$7:$D$50, MATCH(ROW()-1, 'Choose Your Cities'!$F$7:$F$50, 0)), "") | C200: =IFERROR(INDEX('Choose Your Cities'!$E$7:$E$50, MATCH(ROW()-1, 'Choose Your Cities'!$F$7:$F$50, 0)), "") | D200: =IF(A200="","",IFERROR(INDEX('Lookup Table'!$G$2:$G$45,MATCH(A200&"|"&B200,'Lookup Table'!$J$2:$J$45,0)),"")) | E200: =IF(A200="","",IFERROR(INDEX('Lookup Table'!$H$2:$H$45,MATCH(A200&"|"&B200,'Lookup Table'!$J$2:$J$45,0)),"")) | F200: =IF(A200="","",IFERROR(INDEX('Lookup Table'!$I$2:$I$45,MATCH(A200&"|"&B200,'Lookup Table'!$J$2:$J$45,0)),""))
A201: =IFERROR(INDEX('Choose Your Cities'!$C$7:$C$50, MATCH(ROW()-1, 'Choose Your Cities'!$F$7:$F$50, 0)), "") | B201: =IFERROR(INDEX('Choose Your Cities'!$D$7:$D$50, MATCH(ROW()-1, 'Choose Your Cities'!$F$7:$F$50, 0)), "") | C201: =IFERROR(INDEX('Choose Your Cities'!$E$7:$E$50, MATCH(ROW()-1, 'Choose Your Cities'!$F$7:$F$50, 0)), "") | D201: =IF(A201="","",IFERROR(VLOOKUP(A201&"|"&B201, 'Lookup Table'!$A:$Z, MATCH("Venue", 'Lookup Table'!$1:$1,0), FALSE), "")) | E201: =IF(A201="","",IFERROR(VLOOKUP(A201&"|"&B201, 'Lookup Table'!$A:$Z, MATCH("Game Dates", 'Lookup Table'!$1:$1,0), FALSE), "")) | F201: =IF(A201="","",IFERROR(VLOOKUP(A201&"|"&B201, 'Lookup Table'!$A:$Z, MATCH("Matchup", 'Lookup Table'!$1:$1,0), FALSE), ""))
